BEGIN:VCALENDAR
VERSION:2.0
METHOD:PUBLISH
BEGIN:VEVENT
UID:WILD_APRICOT_EVENT_1699185_SESSION_1
DTSTART:20140725T223000Z
DTEND:20140726T063000Z
SUMMARY:GTAQ 2014 Annual Conference ‘Rising Tides' PEOPLE PLACES PEDAGOGY
LOCATION:University of Queensland\, St. Lucia
DESCRIPTION:https://www.gtaq.com.au/event-1699185\n\n \n  2014 Annual GTAQ Conference\n   \n    RISING TIDES\n    PEOPLE · PLACES · PEDAGOGY\n     A CONFERENCE FOR EXPERIENCED\, BEGINNING & PRE-SERVICE PRIMARY & SECONDARY TEACHERS\n    Friday 25th July - Three fieldwork experiences will be on offer (including all meals and transport):\n        * Bauers Organic Farm – Farm Tour and activities related to sustainable farming (for both the Australian Curriculum & Senior Curriculum)\n\n        * SEQ  Water Hinze  Dam – Practical activities for students (building the SEQ water grid) and the dam story (for the Australian Curriculum).\n\n        * Second Nature –  Catchment Management for the Senior Curriculum\n\n  Saturday 26th July - Main conference\, University of Queensland\, St Lucia\n    Key Note Speakers\n  Aunty Macrose Elu\, an academic and Torres Strait Islander from Saibai - one of the six most vulnerable islands in the Torres Strait that could be highly vulnerable to even moderate sea level rises. Aunty Macrose Elu will provide an insight into her first-hand experience of these ‘Rising Tides’ and discuss ways in which the affected communities and the Government are managing the issue.\n  Sandie Cornish is Province Director of Mission of the Society of the Sacred Heart in Australia and New Zealand. Sandie previously led the highly regarded Hong Kong based international human rights agency\, the Asian Centre for the Progress of Peoples. Sandie will explore current trends in the movement of peoples especially asylum seekers.\n   \n    Workshops\n  A diverse range of concurrent workshops including:\n      *             Print and digital resources for the Australian and Queensland Senior Curriculum        \n\n        *             ABC Splash        \n\n        *             Utilising  fieldwork\, excursions and incursions to enrich the geography curriculum        \n\n        *             Using and creating infographics        \n\n        *             Unpacking and resourcing geography topics including: population growth\, climate change\, global development and wellbeing\, biodiversity\, geography of interconnections and indigenous perspectives.        \n\n  Cost - EARLY BIRD\n  Pre-Service Teacher - $40\n  Primary Teacher - $80\n  Secondary Teacher – Member - $150 / Non-member $200\n  \n  CLICK to download\n   \n  CONFERENCE PROGRAM\n   \n  CONFERENCE FLYER\n   \n  ART COMPETITION FLYER \n
DTSTAMP:20200302T025935Z
END:VEVENT
END:VCALENDAR
