BEGIN:VCALENDAR
VERSION:2.0
METHOD:PUBLISH
BEGIN:VEVENT
UID:WILD_APRICOT_EVENT_2048315_SESSION_1
DTSTART:20151015T223000Z
DTEND:20151016T051500Z
SUMMARY:GTAQ  & AGTA ONE DAY WORKSHOP
LOCATION:St Margaret’s Anglican Girls School\, 11 Petrie Street Ascot
DESCRIPTION:https://www.gtaq.com.au/event-2048315\n\nThis one day workshop will focus on interpreting syllabus documents and ideas for creative and engaging teaching and assessing.  \n\n  PRESENTATIONS\n  \n\n  Paul Ould\,  Assistant Director QCAA– Changes to Qld Curriculum: Planning for the Future\n\n  \n\n  Malcolm McInerney - Geographical thinking: Teaching the concepts – Years F-10\n\n  \n\n  Anne-Marie Gerlach -  Think critically\, think deeply\, think Geography!\n\n  \n\n  Malcolm McInerney - Deconstructing the Australian Curriculum: Geography \n  \n\n  Peter Cottle - Become a student for the afternoon - Augmented reality in Geography \n\n  \n\n  Malcolm McInerney - Connecting the Australian Curriculum: Civics and Citizenship to the Australian Curriculum: Geography –  Years 3-10  \n\n  \n\n
DTSTAMP:20200302T025747Z
END:VEVENT
END:VCALENDAR
