BEGIN:VCALENDAR
VERSION:2.0
METHOD:PUBLISH
BEGIN:VEVENT
UID:WILD_APRICOT_EVENT_2174680_SESSION_1
DTSTART:20160317T230000Z
DTEND:20160318T030000Z
SUMMARY:Queensland Spatial Educators’ Toolkit Training (Event 1)
LOCATION:All Saints Anglican School\, Gold Coast
DESCRIPTION:https://www.gtaq.com.au/event-2174680\n\nGTAQ and the Queensland Spatial Information Council will be holding a series of workshops across regional Queensland in 2016. The workshops will showcase the Queensland Spatial Educators’ Toolkit for Primary or Secondary teachers who want to start using spatial technologies in the classroom. \n  \n\n  The workshops cost $10 per person and require participants to bring along a laptop device for the day. \n  \n\n  Places are capped so be quick!\n  \n\n  For more information on these events contact Mick on 07 3406 2807 or spatialeducation@qld.gov.au.\n  \n\n
DTSTAMP:20200302T025651Z
END:VEVENT
END:VCALENDAR
