BEGIN:VCALENDAR
VERSION:2.0
METHOD:PUBLISH
BEGIN:VEVENT
UID:WILD_APRICOT_EVENT_2199310_SESSION_1
DTSTART:20160728T140000Z
DTEND:20160730T140000Z
SUMMARY:Annual Conference Sponsorship
LOCATION:Brisbane
DESCRIPTION:https://www.gtaq.com.au/event-2199310\n\n2016 Annual Conference - Sponsorship Opportunities  \n\n  Platinum $5000\n  Gold $1000\n  Silver $500\n  Bronze $300\n  \n\n  Trade Display:\n  Commercial $250\n  Non-commercial/Government $150\n  Not for profit $50\n  \n\n  Satchel insert only (2 items) $50\n  \n\n  \n\n
DTSTAMP:20200302T025549Z
END:VEVENT
END:VCALENDAR
