BEGIN:VCALENDAR
VERSION:2.0
METHOD:PUBLISH
BEGIN:VEVENT
UID:WILD_APRICOT_EVENT_2212549_SESSION_1
DTSTART:20160520T233000Z
DTEND:20160521T043000Z
SUMMARY:Cairns Professional Learning for Primary Teachers
LOCATION:Cairns State High
DESCRIPTION:https://www.gtaq.com.au/event-2212549\n\nThe Geography Teachers’ Association of Queensland is offering a professional learning opportunity for primary teachers\n  from across the Cairns region exploring the effective development of Geography teaching and learning.\n  Join Julie Davis\, an experienced Geography teacher and university lecturer\, where she will work with primary teachers to support their creation of an effective Geography curriculum for their classroom.\n   \n   Primary Flyer.pdf\n   \n
DTSTAMP:20200302T025627Z
END:VEVENT
END:VCALENDAR
