BEGIN:VCALENDAR
VERSION:2.0
METHOD:PUBLISH
BEGIN:VEVENT
UID:WILD_APRICOT_EVENT_2271726_SESSION_1
DTSTART:20160728T230000Z
DTEND:20160728T230000Z
SUMMARY:Annual Conference 2016 - Geography:Making the Link (session 1 of 2)
LOCATION:QUT - Gardens Point (S Block)
DESCRIPTION:https://www.gtaq.com.au/event-2271726\n\n\n\n
DTSTAMP:20200302T025537Z
END:VEVENT
BEGIN:VEVENT
UID:WILD_APRICOT_EVENT_2271726_SESSION_2
DTSTART:20160729T223000Z
DTEND:20160729T223000Z
SUMMARY:Annual Conference 2016 - Geography:Making the Link (session 2 of 2)
LOCATION:QUT - Gardens Point (S Block)
DESCRIPTION:https://www.gtaq.com.au/event-2271726\n\n\n\n
DTSTAMP:20200302T025537Z
END:VEVENT
END:VCALENDAR
