BEGIN:VCALENDAR
VERSION:2.0
METHOD:PUBLISH
BEGIN:VEVENT
UID:WILD_APRICOT_EVENT_2445738_SESSION_1
DTSTART:20170223T080000Z
DTEND:20170223T093000Z
SUMMARY:GTAQ AGM
LOCATION:RGSQ - Milton Road\, Milton
DESCRIPTION:https://www.gtaq.com.au/event-2445738\n\n\n         GTAQ is inviting its members to join us for our Annual General Meeting.   \n  GTAQ Council is always excited to welcome new members to Council. If you would like to nominate for the 2017 Council please print the forms below. All Council members must be a financial INDIVIDUAL member of GTAQ. \n    AGM Nomination Form.pdf  \n  Looking forward to seeing you then\,\n  GTAQ \n
DTSTAMP:20200302T025448Z
END:VEVENT
END:VCALENDAR
