BEGIN:VCALENDAR
VERSION:2.0
METHOD:PUBLISH
BEGIN:VEVENT
UID:WILD_APRICOT_EVENT_2580116_SESSION_1
DTSTART:20170727T140000Z
DTEND:20170729T140000Z
SUMMARY:Annual Conference 2017 - #geographyitseverywhere
LOCATION:QUT - Gardens Point (S Block)
DESCRIPTION:https://www.gtaq.com.au/event-2580116\n\n\n\n
DTSTAMP:20200302T025424Z
END:VEVENT
END:VCALENDAR
