BEGIN:VCALENDAR
VERSION:2.0
METHOD:PUBLISH
BEGIN:VEVENT
UID:WILD_APRICOT_EVENT_2685283_SESSION_1
DTSTART:20171101T230000Z
DTEND:20171102T050000Z
SUMMARY:GIS IN THE FIELD
LOCATION:University of Queensland\, St Lucia Campus\, Steele Building Room 315 Planning Studio
DESCRIPTION:https://www.gtaq.com.au/event-2685283\n\n\n\n  Professional Learning Day\n  This Professional Development opportunity will guide you through simple data collection methods using free Geographic Information System (GIS) technology available to all schools through Esri Australia’s GIS for Schools Program.\n \n We will guide you through everything you need to know to integrate GIS into your next field work – from understanding the technology\, presenting maps and results\, and integrating geospatial technology into an existing field report task.\n \n This workshop will introduce you to a range of free geo technologies – including how to:\n      * easily integrate GIS into your classroom\n\n        * use location analytics to make web apps\n\n        * collect meaningful data in the field using your mobile phone!  \n\n  Date: Thursday 2nd November\, 2017\n \n Time: 9:00 am - 3:00 pm\nLocation: University of Queensland\, St Lucia Campus\, Steele Building Room 315 Planning Studio\n \n Cost: $50 for GTAQ members\; $60 for non-members  Note: Please bring your own device \n\n  Please see the attached flyer for more details:\n     GIS IN THE FIELD.pdf\n\n 
DTSTAMP:20200302T025319Z
END:VEVENT
END:VCALENDAR
