BEGIN:VCALENDAR
VERSION:2.0
METHOD:PUBLISH
BEGIN:VEVENT
UID:WILD_APRICOT_EVENT_2819154_SESSION_1
DTSTART:20180315T223000Z
DTEND:20180316T050000Z
SUMMARY:The Digital Future of Geography
LOCATION:
DESCRIPTION:https://www.gtaq.com.au/event-2819154\n\n\n\n  Professional Learning Day\n  This Professional Development opportunity will guide you through simple data collection methods using free Geographic Information System (GIS) technology available to all schools through Esri Australia’s GIS for Schools Program.\n \n We will guide you through everything you need to know to integrate GIS into your next field work – from understanding the technology\, editing maps and publishing results.\n  Hear from our guest speaker the Toowoomba Regional Council about the GIS technology they use in their work and local town planning.    \n \n\n  Date: Friday 16th March 2018\n \n Time: 8:30am-3:00pm (registrations from 8:30am)\nLocation: Fairholme College\, 40 Wirra Wirra St\, Toowoomba City QLD 4350\n \n Cost: $50 for GTAQ members\; $60 for non-members  Note: Please bring your own device \n\n  Please see the attached flyer for more details:\n  The Digital Future of Geography - GIS in the Field Fairholme.pdf\n\n
DTSTAMP:20200302T025253Z
END:VEVENT
END:VCALENDAR
