BEGIN:VCALENDAR
VERSION:2.0
METHOD:PUBLISH
BEGIN:VEVENT
UID:WILD_APRICOT_EVENT_3077169_SESSION_1
DTSTART:20181019T230000Z
DTEND:20181020T030000Z
SUMMARY:GTAQ+DNRME Spatial Technology Workshop CAIRNS
LOCATION:Cairns State High School
DESCRIPTION:https://www.gtaq.com.au/event-3077169\n\n\n\n
DTSTAMP:20200302T025150Z
END:VEVENT
END:VCALENDAR
