BEGIN:VCALENDAR
VERSION:2.0
METHOD:PUBLISH
BEGIN:VEVENT
UID:WILD_APRICOT_EVENT_3077172_SESSION_1
DTSTART:20181209T230000Z
DTEND:20181210T050000Z
SUMMARY:GTAQ+DNRME Spatial Technology Workshop GLADSTONE
LOCATION:Gladstone State High School
DESCRIPTION:https://www.gtaq.com.au/event-3077172\n\n\n\n
DTSTAMP:20260424T153407Z
END:VEVENT
END:VCALENDAR
