BEGIN:VCALENDAR
VERSION:2.0
METHOD:PUBLISH
BEGIN:VEVENT
UID:WILD_APRICOT_EVENT_3427193_SESSION_1
DTSTART:20190614T230000Z
DTEND:20190615T040000Z
SUMMARY:Fieldwork Skills Workshop
LOCATION:Gold Coast
DESCRIPTION:https://www.gtaq.com.au/event-3427193\n\nIf you want to develop your fieldwork skills -  data collection skills and data analysis -  this is the workshop for you.\n  Designed for teachers in all stages of their career. \n  Presented by experienced Geography teachers.\n  All location details will be emailed after registration. \n  Fully catered.\n  \n\n
DTSTAMP:20260424T152425Z
END:VEVENT
END:VCALENDAR
