BEGIN:VCALENDAR
VERSION:2.0
METHOD:PUBLISH
BEGIN:VEVENT
UID:WILD_APRICOT_EVENT_3524049_SESSION_1
DTSTART:20190912T061500Z
DTEND:20190912T083000Z
SUMMARY:September Twilight PD
LOCATION:Brisbane School of Distance Education\, 4 Cavendish Road\, Coorparoo
DESCRIPTION:https://www.gtaq.com.au/event-3524049\n\nUNPACKING THE GEOGRAPHY 2019 SYLLABUS OBJECTIVES\n      * workshop activities presented by GTAQ representatives\n\n        * sharing experiences and understanding with other teachers\n\n        * networking afternoon tea\n\n  \n\n
DTSTAMP:20260424T163455Z
END:VEVENT
END:VCALENDAR
