BEGIN:VCALENDAR
VERSION:2.0
METHOD:PUBLISH
BEGIN:VEVENT
UID:WILD_APRICOT_EVENT_498689_SESSION_1
DTSTART:20120727T223000Z
DTEND:20120728T070000Z
SUMMARY:GTAQ Annual Conference
LOCATION:University of Queensland - St Lucia
DESCRIPTION:https://www.gtaq.com.au/event-498689\n\n\n   \n  Geography in the 21st Century\n\n     Early bird registration closes on Friday 20th July\n 
DTSTAMP:20200302T030422Z
END:VEVENT
END:VCALENDAR
