BEGIN:VCALENDAR
VERSION:2.0
METHOD:PUBLISH
BEGIN:VEVENT
UID:WILD_APRICOT_EVENT_567906_SESSION_1
DTSTART:20121116T230000Z
DTEND:20121117T060000Z
SUMMARY:Simple Spatial Technologies
LOCATION:Spinifex State College\, Senior Campus\, Abel Smith Parade
DESCRIPTION:https://www.gtaq.com.au/event-567906\n\nGet a simple\, easy-to-follow introduction into the wonders of spatial technologies such as online GIS\, Google Maps and Google Earth from an experienced classroom teacher. Spatial technologies are not only relevant to Geographers but make teaching Geography so much more fun\n   \n  Download Form\n
DTSTAMP:20200302T030348Z
END:VEVENT
END:VCALENDAR
