BEGIN:VCALENDAR
VERSION:2.0
METHOD:PUBLISH
BEGIN:VEVENT
UID:WILD_APRICOT_EVENT_583091_SESSION_1
DTSTART:20121122T080000Z
DTEND:20121122T090000Z
SUMMARY:Annual General Meeting
LOCATION:RGSQ 237 Milton Road\, Milton Q 4064
DESCRIPTION:https://www.gtaq.com.au/event-583091\n\n   The GTAQ 2012 Annual General Meeting will be held on Thursday 22 November 2012 at the RGSQ office at 237 Milton Road\, Milton begining at 6:00pm.         All GTAQ memebers are invited (and encouraged) to attend and nominations for committee postions will be sort at this meeting.        Please find attached a committee nomination form if you would like to nominate for postitions.        Geography Teachers AGM nomination form.pdf 
DTSTAMP:20200302T030319Z
END:VEVENT
END:VCALENDAR
