BEGIN:VCALENDAR
VERSION:2.0
METHOD:PUBLISH
BEGIN:VEVENT
UID:WILD_APRICOT_EVENT_689088_SESSION_1
DTSTART:20130531T230000Z
DTEND:20130601T023000Z
SUMMARY:Geography Skills Workshop
LOCATION:St Margaret’s Anglican Girls School\, 11 Petrie Street\, Ascot
DESCRIPTION:https://www.gtaq.com.au/event-689088\n\n   GEOGRAPHY TEACHERS ARE INVITED TO:\n   \n    Geography Skills Workshop\n  Introduction to Australian Curriculum Geography Skills for Upper Primary and Middle School\n      * Local Field WorkundefinedWhat do I do when I get back to the classroom?\n\n        * •Engaging Students with Place and Space\n\n        * Resourcing the Middle Years Classroom\n\n    Presenters include: Classroom Teachers\,  GTAQ Council Members\n   \n  First 50 registered receive a FREE resource!!\n   \n      ALL attendees will receive a certificate of participation\n   \n  RSVP May 29th\n
DTSTAMP:20200302T030244Z
END:VEVENT
END:VCALENDAR
