BEGIN:VCALENDAR
VERSION:2.0
METHOD:PUBLISH
BEGIN:VEVENT
UID:WILD_APRICOT_EVENT_703900_SESSION_1
DTSTART:20130726T223000Z
DTEND:20130727T063000Z
SUMMARY:GTAQ 2013 Annual Conference ‘An Introduction to the Australian Geography Curriculum’
LOCATION:University of Queensland\, St. Lucia
DESCRIPTION:https://www.gtaq.com.au/event-703900\n\nGTAQ 2013 Annual Conference ‘An Introduction to the Australian Geography Curriculum’\n  The 2013 annual GTAQ conference\, ‘An Introduction to the Australian Geography Curriculum’ will take place on Friday 26th and Saturday 27th July at the University of Queensland\, St Lucia.\n  The 2013 conference will offer four workshop sessions to conference participants. Each session will include options such as ICT in Geography\, Senior Geography\, Primary Geography\, Junior School Geography\, Skills in Geography\, and workshops focussed on the Australian Curriculum.\n  The program will be finalised soon and registered teachers will be able to make their workshop selections.\n  Registration for the 2013 GTAQ Conference is now open.\n  Field Trips\n  There will be four field trips available\, catering for primary\, middle school or secondary teachers. More information on these field trips will be provided soon.\n
DTSTAMP:20200302T030230Z
END:VEVENT
END:VCALENDAR
