BEGIN:VCALENDAR
VERSION:2.0
METHOD:PUBLISH
BEGIN:VEVENT
UID:WILD_APRICOT_EVENT_857526_SESSION_1
DTSTART:20140508T070000Z
DTEND:20140508T090000Z
SUMMARY:Australia’s Engagement with Asia: Indonesia
LOCATION:St Margaret’s Anglican Girls School
DESCRIPTION:https://www.gtaq.com.au/event-857526\n\nGTAQ invites teachers to join us for a twilight professional development session exploring the Cross-curriculum priority of Australia’s Engagement with Asia\, focusing on Indonesia.\n   \n  Rod Yule\, Manager Global Education at World Vision Australia\, will take participants through the range of exciting and engaging geography classroom resources on offer from World Vision.\n   \n  The World Vision resource Australia's engagement with Asia: Indonesia is an engaging and easy-to-use teaching resource that supports the Australian Curriculum: Geography. It includes six DVD chapters with related texts and worksheets developed by World Vision and the Australian Geography Teachers Association.\n    It directly addresses two cross-curriculum perspectives: Sustainability and Asia and Australia's engagement with Asia. \n   \n  Geography Units supported by the resource\n      *             Year 6 unit A diverse and connected world        \n\n        *             Year 7 unit Water in the world        \n\n        *             Year 8 unit Changing Nations        \n\n        *             Year 9 unit Biomes and food security and the        \n\n        *             Year 10 unit Global geographies of human wellbeing        \n\n  DOWNLOAD FLYER   \n   \n  REGISTER HERE\n     \n     \n                     Participants will receive a Professional Development certificate\n
DTSTAMP:20200302T030035Z
END:VEVENT
END:VCALENDAR
